BEGIN:VCALENDAR
VERSION:2.0
PRODID:-//Valley City Community Group - ECPv6.15.17.1//NONSGML v1.0//EN
CALSCALE:GREGORIAN
METHOD:PUBLISH
X-ORIGINAL-URL:https://valleycity.org
X-WR-CALDESC:Events for Valley City Community Group
REFRESH-INTERVAL;VALUE=DURATION:PT1H
X-Robots-Tag:noindex
X-PUBLISHED-TTL:PT1H
BEGIN:VTIMEZONE
TZID:UTC
BEGIN:STANDARD
TZOFFSETFROM:+0000
TZOFFSETTO:+0000
TZNAME:UTC
DTSTART:20240101T000000
END:STANDARD
END:VTIMEZONE
BEGIN:VEVENT
DTSTART;TZID=UTC:20251009T190000
DTEND;TZID=UTC:20251009T210000
DTSTAMP:20260424T044449
CREATED:20250221T224229Z
LAST-MODIFIED:20250905T155932Z
UID:2596-1760036400-1760043600@valleycity.org
SUMMARY:Candidates Night
DESCRIPTION:A Local Candidates Night is an event where members of the community can meet and interact with the candidates running for local office. It’s an opportunity for voters to ask questions\, learn more about the candidates’ positions on important issues\, and gain insight into their plans for the future of the community. This event allows for direct dialogue with candidates\, helping voters make informed decisions before election day. \nHave a question you would like to ask?  (Please include your name\, candidates name and question) Email your question to – ValleyCityCommunityGroup@gmail.com \n*All questions will be reviewed and submitted to the candidate time permitting. VCCG reserves the right to disqualify any questions that it believes are inappropriate*
URL:https://valleycity.org/event/candidates-night/
LOCATION:Community Center\, 6801 School St\, Valley City\, OH\, 44280\, United States
ATTACH;FMTTYPE=image/jpeg:https://valleycity.org/wp-content/uploads/2025/02/Candidates-night-1.jpg
ORGANIZER;CN="Valley City Community Group":MAILTO:valleycitycommunitygroup@gmail.com
END:VEVENT
END:VCALENDAR