BEGIN:VCALENDAR
VERSION:2.0
PRODID:-//Valley City Community Group - ECPv6.15.17.1//NONSGML v1.0//EN
CALSCALE:GREGORIAN
METHOD:PUBLISH
X-ORIGINAL-URL:https://valleycity.org
X-WR-CALDESC:Events for Valley City Community Group
REFRESH-INTERVAL;VALUE=DURATION:PT1H
X-Robots-Tag:noindex
X-PUBLISHED-TTL:PT1H
BEGIN:VTIMEZONE
TZID:UTC
BEGIN:STANDARD
TZOFFSETFROM:+0000
TZOFFSETTO:+0000
TZNAME:UTC
DTSTART:20250101T000000
END:STANDARD
END:VTIMEZONE
BEGIN:VEVENT
DTSTART;TZID=UTC:20260308T080000
DTEND;TZID=UTC:20260308T130000
DTSTAMP:20260423T200953
CREATED:20260205T181423Z
LAST-MODIFIED:20260312T110516Z
UID:3385-1772956800-1772974800@valleycity.org
SUMMARY:Firefighters Associations Pancake Breakfast
DESCRIPTION:Valley City Firefighters Associations Annual Pancake Breakfast \nSunday March 8th from 8AM- 1PM \nMenu – Plain & Blueberry pancakes\, Sausage links\, Scrambled eggs\, Fruit\, Juice\, Milk\, Coffee \nPrice – Adults $15\, Seniors/Veterans $12\, Under 13- $8\, Under 3- Free\, Family Max $45
URL:https://valleycity.org/event/firefighters-associations-pancake-breakfast/
LOCATION:Valley City Fire Department\, 6700 Center Rd\, Valley City\, OH\, 44280\, United States
ATTACH;FMTTYPE=image/jpeg:https://valleycity.org/wp-content/uploads/2026/02/IMG_9851.jpeg
END:VEVENT
END:VCALENDAR