BEGIN:VCALENDAR
VERSION:2.0
PRODID:-//Valley City Community Group - ECPv6.15.17.1//NONSGML v1.0//EN
CALSCALE:GREGORIAN
METHOD:PUBLISH
X-WR-CALNAME:Valley City Community Group
X-ORIGINAL-URL:https://valleycity.org
X-WR-CALDESC:Events for Valley City Community Group
REFRESH-INTERVAL;VALUE=DURATION:PT1H
X-Robots-Tag:noindex
X-PUBLISHED-TTL:PT1H
BEGIN:VTIMEZONE
TZID:UTC
BEGIN:STANDARD
TZOFFSETFROM:+0000
TZOFFSETTO:+0000
TZNAME:UTC
DTSTART:20250101T000000
END:STANDARD
END:VTIMEZONE
BEGIN:VEVENT
DTSTART;TZID=UTC:20260525T103000
DTEND;TZID=UTC:20260525T230000
DTSTAMP:20260423T151127
CREATED:20260205T183151Z
LAST-MODIFIED:20260205T183151Z
UID:3389-1779705000-1779750000@valleycity.org
SUMMARY:Memorial Day Parade
DESCRIPTION:Join us on May 25th for our Traditional Memorial Day parade followed by a ceremony of remembrance presented by VFW Post 5563. Those interested in marching (remember this is a somber event) should line up at the community center at 10:30AM . The Parade will kick-off at 11:00AM
URL:https://valleycity.org/event/memorial-day-parade-2/
ATTACH;FMTTYPE=image/jpeg:https://valleycity.org/wp-content/uploads/2026/02/Parade-compressed.jpeg
END:VEVENT
BEGIN:VEVENT
DTSTART;VALUE=DATE:20260704
DTEND;VALUE=DATE:20260705
DTSTAMP:20260423T151127
CREATED:20251121T211521Z
LAST-MODIFIED:20260420T172524Z
UID:3202-1783123200-1783209599@valleycity.org
SUMMARY:250th Independence Day
DESCRIPTION:Join us for an unforgettable Valley City celebration—right here in Medina County\, Ohio—made even more spectacular as we honor the 250th Independence Day! This milestone year promises a day full of community pride\, tradition\, and excitement. \nThe parade begins at the Depot Museum parking lot (6615 Center Rd) and concludes in Mill Stream Park (1200 Maple St). Open to all—no reservations required. Classic and antique cars may line up in the Depot or Cleveland Clinic parking lots and register on the Depot platform. \nLineup begins at 10:00 AM\, and the parade steps off promptly at 11:00 AM. Floats will line up behind Emmanuel Church (6656 Center Rd)\, while all other entries line up in front of the Depot. \nIn the evening\, bring your blankets and chairs to Mill Stream Park for an incredible night of entertainment and food\, all leading up to a dazzling firework show at dusk. With increased vehicle and pedestrian traffic\, especially children\, please drive safely as you enjoy this historic celebration.
URL:https://valleycity.org/event/250th-independence-day-2/
END:VEVENT
BEGIN:VEVENT
DTSTART;TZID=UTC:20260719T090000
DTEND;TZID=UTC:20260719T180000
DTSTAMP:20260423T151127
CREATED:20251121T205519Z
LAST-MODIFIED:20251121T205519Z
UID:3193-1784451600-1784484000@valleycity.org
SUMMARY:65th Annual Frog Jump
DESCRIPTION:The purpose of the Frog Jump Festival is to have a thoroughly enjoyable family fun day for the community and for our visitors. Our measure of success is in seeing kids\, parents and grandparents all leave happily at the end of the day\, satisfied\, with full tummies\, and glad they attended again this year. Some are lucky enough to be carrying one or more trophies. It is also the major fund raising event of the year for the Community Group. These funds are then used to benefit scholarships and the community Learn More →
URL:https://valleycity.org/event/65th-annual-frog-jump/
LOCATION:Mill Stream Park\, 1200 Maple St\, Valley City\, OH\, 44280\, United States
ORGANIZER;CN="Valley City Community Group":MAILTO:valleycitycommunitygroup@gmail.com
END:VEVENT
BEGIN:VEVENT
DTSTART;TZID=UTC:20260814T170000
DTEND;TZID=UTC:20260816T220000
DTSTAMP:20260423T151127
CREATED:20251231T184725Z
LAST-MODIFIED:20251231T184740Z
UID:3292-1786726800-1786917600@valleycity.org
SUMMARY:91st Annual Street Fair
DESCRIPTION:The Valley City Fire Department Association has used this community event as a fundraiser for the past 90 years. Attended by thousands over the 3 day weekend. Food\, beverages\, games\, entertainment provided.
URL:https://valleycity.org/event/91st-annual-street-fair/
LOCATION:Valley City Fire Department\, 6700 Center Rd\, Valley City\, OH\, 44280\, United States
END:VEVENT
BEGIN:VEVENT
DTSTART;TZID=UTC:20261031T183000
DTEND;TZID=UTC:20261031T200000
DTSTAMP:20260423T151127
CREATED:20251121T205818Z
LAST-MODIFIED:20260205T184043Z
UID:3195-1793471400-1793476800@valleycity.org
SUMMARY:Halloween Parade
DESCRIPTION:The Valley City Firefighters Association host a parade and costume contest on Halloween night at 6:30. Parade starts at the Depot and ends at the Fire Station where the contest winners are announced and snacks and beverages are provided.
URL:https://valleycity.org/event/halloween-parade/
LOCATION:Valley City Fire Department\, 6700 Center Rd\, Valley City\, OH\, 44280\, United States
ATTACH;FMTTYPE=image/jpeg:https://valleycity.org/wp-content/uploads/2025/11/Parade-compressed.jpeg
END:VEVENT
BEGIN:VEVENT
DTSTART;TZID=UTC:20261213T110000
DTEND;TZID=UTC:20261213T160000
DTSTAMP:20260423T151127
CREATED:20260205T184104Z
LAST-MODIFIED:20260205T184104Z
UID:3393-1797159600-1797177600@valleycity.org
SUMMARY:Christmas In The Valley
DESCRIPTION:Join us for a festive winter celebration for all ages! Enjoy our famous Christmas Parade and plenty of kid-friendly fun\, including the Kids Zone\, a scavenger hunt\, Mrs. Claus story time\, cookie decorating\, and a special visit with Santa at the Depot. Warm up at the Fire Station during our Chili Cook-Off\, featuring a beer tent\, raffles\, side boards\, big-screen game viewing\, and chances to win fantastic prizes. Then wander downtown and browse more than 70 Holiday Market vendors tucked inside local businesses. \nCome spend the day soaking up FOOD\, FUN\, and SHOPPING—leashed\, well-behaved pets are welcome!
URL:https://valleycity.org/event/christmas-in-the-valley/
END:VEVENT
END:VCALENDAR