BEGIN:VCALENDAR
VERSION:2.0
PRODID:-//Valley City Community Group - ECPv6.15.17.1//NONSGML v1.0//EN
CALSCALE:GREGORIAN
METHOD:PUBLISH
X-WR-CALNAME:Valley City Community Group
X-ORIGINAL-URL:https://valleycity.org
X-WR-CALDESC:Events for Valley City Community Group
REFRESH-INTERVAL;VALUE=DURATION:PT1H
X-Robots-Tag:noindex
X-PUBLISHED-TTL:PT1H
BEGIN:VTIMEZONE
TZID:UTC
BEGIN:STANDARD
TZOFFSETFROM:+0000
TZOFFSETTO:+0000
TZNAME:UTC
DTSTART:20240101T000000
END:STANDARD
END:VTIMEZONE
BEGIN:VEVENT
DTSTART;VALUE=DATE:20250720
DTEND;VALUE=DATE:20250721
DTSTAMP:20260423T234041
CREATED:20241213T023730Z
LAST-MODIFIED:20250710T184942Z
UID:2057-1752969600-1753055999@valleycity.org
SUMMARY:64th Annual Valley City Frog Jump
DESCRIPTION:The purpose of the Frog Jump Festival is to have a thoroughly enjoyable family fun day for the community and for our visitors. Our measure of success is in seeing kids\, parents and grandparents all leave happily at the end of the day\, satisfied\, with full tummies\, and glad they attended again this year. Some are lucky enough to be carrying one or more trophies. It is also the major fund raising event of the year for the Community Group. These funds are then used to benefit scholarships and the community. Learn More → \n 
URL:https://valleycity.org/event/64th-annual-valley-city-frog-jump/
LOCATION:Valley City Frog Jump\, 1200 Maple Street\, Valley City\, OH\, 44280\, United States
ORGANIZER;CN="Valley City Community Group":MAILTO:valleycitycommunitygroup@gmail.com
END:VEVENT
BEGIN:VEVENT
DTSTART;VALUE=DATE:20250704
DTEND;VALUE=DATE:20250705
DTSTAMP:20260423T234041
CREATED:20241213T031644Z
LAST-MODIFIED:20250530T000205Z
UID:2064-1751587200-1751673599@valleycity.org
SUMMARY:Independence Day
DESCRIPTION:A Valley City\, Medina County\, Ohio event.  The parade begins at the Depot Museum parking lot\, 6615 Center Rd\, and ends in Mill Stream Park\, 1200 Maple St. Open to all reservations not required.  Classic and antique cars line up in Depot or Cleveland Clinic parking lots and register on the Depot platform. \nLine up begins 10 AM\, Parade steps off at 11. Floats line up behind Emmanuel Church\, 6656 Center.  All other entries in front of the Depot. \nIn the evening\, bring your blanket and chairs to Mill Stream Park and enjoy entertainment\, and food\, followed by a firework show at dusk\, all presented by the Valley City Community Group. Lots of vehicle and pedestrian traffic\, especially kids.  Please drive safely.
URL:https://valleycity.org/event/independence-day-2/
ORGANIZER;CN="Valley City Community Group":MAILTO:valleycitycommunitygroup@gmail.com
END:VEVENT
BEGIN:VEVENT
DTSTART;TZID=UTC:20250622T130000
DTEND;TZID=UTC:20250622T160000
DTSTAMP:20260423T234041
CREATED:20250319T210304Z
LAST-MODIFIED:20250519T205203Z
UID:2625-1750597200-1750608000@valleycity.org
SUMMARY:Liverpool Depot Museum Open House
DESCRIPTION:The 1895 train depot is now a museum housing artifacts\, maps\, cemetery info and so much more of early Liverpool/Valley City times.  Docents are on hand to help you.  The period locomotive and caboose are of interest to many.  For more information please contact 330-418-3243 \nLocation – 6615 Center Rd\, Valley City \nOpen 1pm to 4pm \nOpen Dates: \nMay 18 \nJune 22 \nJuly 27 \nAugust 17 (Street Fair) \nSeptember 28 \nOctober 26
URL:https://valleycity.org/event/liverpool-depot-museum-open-house-2/
LOCATION:Liverpool Depot Museum\, 6615 Center Rd\, Valley City\, OH\, 44280\, United States
END:VEVENT
BEGIN:VEVENT
DTSTART;TZID=UTC:20250526T103000
DTEND;TZID=UTC:20250526T120000
DTSTAMP:20260423T234041
CREATED:20250221T214718Z
LAST-MODIFIED:20250221T215349Z
UID:2583-1748255400-1748260800@valleycity.org
SUMMARY:Memorial Day Parade
DESCRIPTION:Join us on Memorial Day For the Traditional Memorial Day parade followed by a ceremony of remembrance presented by VFW Post 5563. Those interested in marching (remember this is a somber event) should line up at the community center at 10:30AM . The Parade will kick-off at 11:00AM
URL:https://valleycity.org/event/memorial-day-parade/
END:VEVENT
BEGIN:VEVENT
DTSTART;TZID=UTC:20250518T120000
DTEND;TZID=UTC:20250518T160000
DTSTAMP:20260423T234041
CREATED:20250319T205821Z
LAST-MODIFIED:20250319T205821Z
UID:2622-1747569600-1747584000@valleycity.org
SUMMARY:Liverpool Depot Museum Open House
DESCRIPTION:  \n  \n  \n  \nThe 1895 train depot is now a museum housing artifacts\, maps\, cemetery info and so much more of early Liverpool/Valley City times.  Docents are on hand to help you.  The period locomotive and caboose are of interest to many.  For more information please contact 330-418-3243 \nLocation – 6615 Center Rd\, Valley City \nOpen 12pm(noon)to 4pm \nOpen Dates: \nMay 18 \nJune 22 \nJuly 27 \nAugust 17 (Street Fair) \nSeptember 28 \nOctober 26
URL:https://valleycity.org/event/liverpool-depot-museum-open-house/
LOCATION:Liverpool Depot Museum\, 6615 Center Rd\, Valley City\, OH\, 44280\, United States
END:VEVENT
BEGIN:VEVENT
DTSTART;TZID=UTC:20250515T190000
DTEND;TZID=UTC:20250515T210000
DTSTAMP:20260423T234041
CREATED:20250501T191737Z
LAST-MODIFIED:20250504T231130Z
UID:2711-1747335600-1747342800@valleycity.org
SUMMARY:Discover Medina County’s Role in the Underground Railroad
DESCRIPTION:Brought to you by the Liverpool Township Historical Society \nJoin us for a compelling evening as historian Roger Smalley presents a richly detailed account of the antislavery movement and the Underground Railroad in Medina County. Drawing from a wide array of local and national sources\, Smalley uses maps\, photographs and charts to bring this powerful history to life. Learn about the station locations\, routes traveled\, and the challenging conditions faced by both the passengers and the brave families who offered them refuge. \nJoin us 7 pm May 15 at EUCC’S Fellowship Hall\, 6656 Center Rd\, Valley City\, OH. Admission is free and the event is open to the public. For more information\, please call 330-604-0442. Come be part of an inspiring evening of local history.
URL:https://valleycity.org/event/discover-medina-countys-role-in-the-underground-railroad/
LOCATION:Emmanuel UCC’s Fellowship Hall\, 6656 Center Rd\, Valley City\, OH\, 44280\, United States
END:VEVENT
END:VCALENDAR