BEGIN:VCALENDAR
VERSION:2.0
PRODID:-//Valley City Community Group - ECPv6.15.17.1//NONSGML v1.0//EN
CALSCALE:GREGORIAN
METHOD:PUBLISH
X-ORIGINAL-URL:https://valleycity.org
X-WR-CALDESC:Events for Valley City Community Group
REFRESH-INTERVAL;VALUE=DURATION:PT1H
X-Robots-Tag:noindex
X-PUBLISHED-TTL:PT1H
BEGIN:VTIMEZONE
TZID:UTC
BEGIN:STANDARD
TZOFFSETFROM:+0000
TZOFFSETTO:+0000
TZNAME:UTC
DTSTART:20240101T000000
END:STANDARD
END:VTIMEZONE
BEGIN:VEVENT
DTSTART;TZID=UTC:20250928T130000
DTEND;TZID=UTC:20250928T160000
DTSTAMP:20260424T044608
CREATED:20250319T211236Z
LAST-MODIFIED:20250812T231006Z
UID:2631-1759064400-1759075200@valleycity.org
SUMMARY:Liverpool Depot Museum Open House
DESCRIPTION:  \nThe 1895 train depot is now a museum housing artifacts\, maps\, cemetery info and so much more of early Liverpool/Valley City times.  Docents are on hand to help you.  The period locomotive and caboose are of interest to many.  For more information please contact 330-418-3243 \nLocation – 6615 Center Rd\, Valley City \nOpen 1pm to 4pm \nOpen Dates: \nSeptember 28 \nOctober 26
URL:https://valleycity.org/event/liverpool-depot-museum-open-house-5/
LOCATION:Liverpool Depot Museum\, 6615 Center Rd\, Valley City\, OH\, 44280\, United States
ATTACH;FMTTYPE=image/jpeg:https://valleycity.org/wp-content/uploads/2024/05/Depot.jpg
END:VEVENT
END:VCALENDAR